BEGIN:VCALENDAR
VERSION:2.0
PRODID:-//wp-events-plugin.com//7.1.7//EN
TZID:Europe/Paris
X-WR-TIMEZONE:Europe/Paris
BEGIN:VEVENT
UID:1-2703@palavaslesflots.com
DTSTART:20240723T150000Z
DTEND:20240723T170000Z
DTSTAMP:20260421T142918Z
URL:
SUMMARY:ATELIER CRÉATIF
DESCRIPTION:De 15h à 17hAtelier créatifMédiathèque Saint-ExupéryAdulte
 s et enfants à partir de 6 ansGratuit et sur InscriptionInfos : 04 67 50 
 42 49 ou www.mediatheque.palavaslesflots.com
END:VEVENT
END:VCALENDAR