BEGIN:VCALENDAR
VERSION:2.0
PRODID:-//wp-events-plugin.com//7.1.7//EN
TZID:Europe/Paris
X-WR-TIMEZONE:Europe/Paris
BEGIN:VEVENT
UID:0-3787@palavaslesflots.com
DTSTART:20261022T150000Z
DTEND:20261022T160059Z
DTSTAMP:20260419T142113Z
URL:https://palavaslesflots.com/evenements/atelier-creatif-ma-citrouille-e
 n-fantaisie/
SUMMARY:ATELIER CRÉATIF - MA CITROUILLE EN FANTAISIE
DESCRIPTION:Les apprentis sorciers sont invités à réaliser une jolie cit
 rouille décorative en papier. En superposant et assemblant des bandes de 
 papier aux couleurs chaudes\, ils donneront du volume à leur création. Q
 uelques détails à ajouter\, et chaque citrouille sera unique !
ATTACH;FMTTYPE=image/jpeg:https://palavaslesflots.com/app/uploads/1/2026/0
 2/37784307-scaled.jpg
LOCATION:Office de tourisme de palavas les flots\, 1 Place de la Méditerra
 née 34250 PALAVAS-LES-FLOTS\, France
X-APPLE-STRUCTURED-LOCATION;VALUE=URI;X-ADDRESS=1 Place de la Méditerrané
 e 34250 PALAVAS-LES-FLOTS\, France;X-APPLE-RADIUS=100;X-TITLE=Office de to
 urisme de palavas les flots:geo:0,0
END:VEVENT
END:VCALENDAR