BEGIN:VCALENDAR
VERSION:2.0
PRODID:-//wp-events-plugin.com//7.1.7//EN
TZID:Europe/Paris
X-WR-TIMEZONE:Europe/Paris
BEGIN:VEVENT
UID:0-3806@palavaslesflots.com
DTSTART:19700101T153007Z
DTEND:19700101T000000Z
DTSTAMP:20260304T152246Z
URL:https://palavaslesflots.com/evenements/atelier-dessin-anime-par-patric
 k-favre-artiste-peintre/
SUMMARY:Atelier dessin
DESCRIPTION:Gratuit sur réservation au  04 67 50 42 49\nMédiathèque Sain
 t-Exupéry \nContours\, proportions\, perspective\, harmonies des couleurs
  et toutes vos idées selon votre propre sensibilité !
ATTACH;FMTTYPE=image/jpeg:https://palavaslesflots.com/app/uploads/1/2026/0
 2/37937342.jpg
CATEGORIES:Exposition
LOCATION:Médiathèque saint exupéry\, 44 Avenue de l'Étang du Grec 34250
  PALAVAS-LES-FLOTS\, France
X-APPLE-STRUCTURED-LOCATION;VALUE=URI;X-ADDRESS=44 Avenue de l'Étang du Gr
 ec 34250 PALAVAS-LES-FLOTS\, France;X-APPLE-RADIUS=100;X-TITLE=Médiathèq
 ue saint exupéry:geo:0,0
END:VEVENT
END:VCALENDAR