BEGIN:VCALENDAR
VERSION:2.0
PRODID:-//wp-events-plugin.com//7.1.7//EN
TZID:Europe/Paris
X-WR-TIMEZONE:Europe/Paris
BEGIN:VEVENT
UID:0-3657@palavaslesflots.com
DTSTART:20260102T170000Z
DTEND:20260102T170000Z
DTSTAMP:20260102T152156Z
URL:https://palavaslesflots.com/evenements/concert-de-lucas-generation-tub
 es-80s/
SUMMARY:Concert de Lucas « Génération tubes 80’s »
DESCRIPTION:Village de Noël\nBoulevard Joffre\nOffert par la Ville
ATTACH;FMTTYPE=image/jpeg:https://palavaslesflots.com/app/uploads/2025/10/
 35221425.png
CATEGORIES:Soirée dansante
LOCATION:Village de noël\, Boulevard Sarrail 34250 PALAVAS-LES-FLOTS\, Fra
 nce
X-APPLE-STRUCTURED-LOCATION;VALUE=URI;X-ADDRESS=Boulevard Sarrail 34250 PAL
 AVAS-LES-FLOTS\, France;X-APPLE-RADIUS=100;X-TITLE=Village de noël:geo:0,
 0
END:VEVENT
END:VCALENDAR