BEGIN:VCALENDAR
VERSION:2.0
PRODID:-//wp-events-plugin.com//7.1.7//EN
TZID:Europe/Paris
X-WR-TIMEZONE:Europe/Paris
BEGIN:VEVENT
UID:1-2993@palavaslesflots.com
DTSTART:20250202T180000Z
DTEND:20250202T000000Z
DTSTAMP:20260423T150528Z
URL:
SUMMARY:CONCERT HARPE ET VIOLONCELLE
DESCRIPTION:18hConcert Harpe et violoncelleOpéra Orchestre National Montpe
 llier Occitanie /Pyrénées-Méditerranéedans le cadre du 19ème Festival
  « Musiques entre Terre et Mer »Église Saint-PierreOffert par la VilleR
 etrait des billets au service culture 44 avenue de l’étang du grecInfos
  : 04 67 50 42 23
END:VEVENT
END:VCALENDAR