BEGIN:VCALENDAR
VERSION:2.0
PRODID:-//wp-events-plugin.com//7.1.7//EN
TZID:Europe/Paris
X-WR-TIMEZONE:Europe/Paris
BEGIN:VEVENT
UID:0-3631@palavaslesflots.com
DTSTART:20260419T180000Z
DTEND:20260419T180059Z
DTSTAMP:20260419T124015Z
URL:https://palavaslesflots.com/evenements/concert-quatuor-de-bassons/
SUMMARY:Concert « Quatuor de bassons »
DESCRIPTION:Fidèle à sa mission de rayonnement et de sensibilisation à l
 a musique classique\, l’Opéra Orchestre National Montpellier Occitanie 
 sillonne la région Occitanie sous diverses formations.\nAu Programme\nJea
 n-Sébastien Bach (1685–1750)\nSuite en ré majeur BWV 1068 – Air\nAnt
 onio Vivaldi (1678–1741)\nQuatuor de bassons en mi mineur\nGiuseppe Verd
 i (1813–1901)\nRigoletto – extraits\nLeonard Bernstein (1918–1990)\n
 West Side Story – I feel pretty\, Maria\, America\nAnton Dvořák (1841
 –1904)\nDanses slaves en sol mineur opus 46 n°8\nSergueï Prokofiev (18
 91–1953)\nScherzo humoristique opus 12 n°9\nLes Beatles\nMichelle – Y
 esterday – Ob-la-di Ob-la-da\nAstor Piazzolla (1921–1992)\nLibertango\
 nArtistes\nBlandine Delangle\nbasson\nRodolphe Bernard\nbasson\nMagali Caz
 al\nbasson\nArthur Antunes\nbasson\nhttps://www.opera-orchestre-montpellie
 r.fr/evenements/quatuor-de-bassons-palavas-les-flots-2026/
ATTACH;FMTTYPE=image/jpeg:https://palavaslesflots.com/app/uploads/1/2026/0
 3/39222086.jpeg
CATEGORIES:Concert
LOCATION:Eglise saint pierre\, 16 Rue Saint-Pierre 34250 PALAVAS-LES-FLOTS\
 , France
X-APPLE-STRUCTURED-LOCATION;VALUE=URI;X-ADDRESS=16 Rue Saint-Pierre 34250 P
 ALAVAS-LES-FLOTS\, France;X-APPLE-RADIUS=100;X-TITLE=Eglise saint pierre:g
 eo:0,0
END:VEVENT
END:VCALENDAR