BEGIN:VCALENDAR
VERSION:2.0
PRODID:-//wp-events-plugin.com//7.1.7//EN
TZID:Europe/Paris
X-WR-TIMEZONE:Europe/Paris
BEGIN:VEVENT
UID:0-3805@palavaslesflots.com
DTSTART:19700101T153007Z
DTEND:19700101T000000Z
DTSTAMP:20260304T152245Z
URL:https://palavaslesflots.com/evenements/join-us-for-story-time-with-cha
 rlotte-jullien-davies-une-histoire-en-anglais/
SUMMARY:Join us for Story Time with Charlotte Jullien-Davies\, une histoire
  en anglais
DESCRIPTION:Gratuit sur réservation\nMédiathèque Saint-Exupéry\nL’aut
 rice et illustratrice jeunesse nous lit en anglais Mummy’s little dinosa
 ur\, une histoire rugissante et attendrissante \nInfos :  04 67 50 42 49
ATTACH;FMTTYPE=image/jpeg:https://palavaslesflots.com/app/uploads/2025/09/
 34542462-scaled.jpg
CATEGORIES:Performance artistique
LOCATION:Médiathèque saint exupéry\, 44 Avenue de l'Étang du Grec 34250
  PALAVAS-LES-FLOTS\, France
X-APPLE-STRUCTURED-LOCATION;VALUE=URI;X-ADDRESS=44 Avenue de l'Étang du Gr
 ec 34250 PALAVAS-LES-FLOTS\, France;X-APPLE-RADIUS=100;X-TITLE=Médiathèq
 ue saint exupéry:geo:0,0
END:VEVENT
END:VCALENDAR