BEGIN:VCALENDAR
VERSION:2.0
PRODID:-//wp-events-plugin.com//7.1.7//EN
TZID:Europe/Paris
X-WR-TIMEZONE:Europe/Paris
BEGIN:VEVENT
UID:0-3476@palavaslesflots.com
DTSTART:20250921T000000Z
DTEND:20250921T235959Z
DTSTAMP:20250921T152044Z
URL:https://palavaslesflots.com/evenements/journees-europeennes-du-patrimo
 ine-2/
SUMMARY:Journées Européennes du Patrimoine avec l'Office de Tourisme
DESCRIPTION:À l’occasion de la 42e édition des Journées Européennes d
 u Patrimoine\, l’Office de Tourisme de Palavas-les-Flots vous propose un
  programme de visites guidées inédites\, gratuites et ouvertes à tous. 
 Ces parcours thématiques vous invitent à explorer les multiples facettes
  du patrimoine local\, entre mémoire collective\, figures emblématiques 
 et traditions maritimes.\nEn voici le programme détaillé : \nSamedi et d
 imanche de 13h30 à 15h30 :\nNouvelle visite guidée  de l'Office de Touri
 sme intitulée ""Les personnages illustres de Palavas-Les-Flots"".\nPartez
  à la découverte des figures emblématiques ayant marqué Palavas-les-Fl
 ots\, qu'elles soient locales ou nationales\, nées ici ou simplement lié
 es intimement à la commune. \nSamedi de 9h30 à 11h30 :\nVisite guidée 
 « Palavas-Les-Flots durant la Seconde Guerre mondiale. »\nPartez avec no
 us à la découverte de l’histoire tourmentée de Palavas-Les-Flots pend
 ant la Seconde Guerre mondiale. »\n \nDimanche de 9h30-11h30 :\nVisite «
  L’art de la pêche Palavasienne .»\nDécouvrez l'histoire fascinante d
 e la pêche à Palavas-Les-Flots\, où le passé maritime se mêle à un r
 iche patrimoine culturel.
ATTACH;FMTTYPE=image/jpeg:https://palavaslesflots.com/app/uploads/2025/08/
 33679508.jpeg
CATEGORIES:Visite guidée et/ou commentée
LOCATION:Rendez vous au phare de la méditerranée pour le départ\, 1 Plac
 e de la Méditerranée 34250 Palavas-les-Flots\, France
X-APPLE-STRUCTURED-LOCATION;VALUE=URI;X-ADDRESS=1 Place de la Méditerrané
 e 34250 Palavas-les-Flots\, France;X-APPLE-RADIUS=100;X-TITLE=Rendez vous 
 au phare de la méditerranée pour le départ:geo:0,0
END:VEVENT
END:VCALENDAR