BEGIN:VCALENDAR
VERSION:2.0
PRODID:-//wp-events-plugin.com//7.1.7//EN
TZID:Europe/Paris
X-WR-TIMEZONE:Europe/Paris
BEGIN:VEVENT
UID:0-3467@palavaslesflots.com
DTSTART;VALUE=DATE:20250921
DTEND;VALUE=DATE:20250922
DTSTAMP:20250921T152038Z
URL:https://palavaslesflots.com/evenements/la-fiesta-de-palavas-2/
SUMMARY:La Fiesta de Palavas
DESCRIPTION:PROGRAMME :\n \n Du Vendredi 19 au Dimanche 21 septembre \n La 
 fiesta de Palavas ! Journées des traditions camarguaises\, course équest
 re…\n \n Vendredi 19/09 :\n • 17h30 Course Camarguaise - École de ras
 eteurs - Arènes - Gratuit\n • 19h Bandido\n • 20h Concert de Lucas - 
 Scène du Pont de l’Union - Offert par la Ville\n \n Samedi 20/09 :\n 
 • 11h Tienta - Arènes El Cordobés - Tarifs : adulte 10 euros\, enfant 
 (5 à 10 ans) 5 euros\n • 12h Abrivado\n • 13h Concert Pause Café - S
 cène du Pont de l’Union - Offert par la Ville\n • 16h Course de TAU -
  Arènes El Cordobés - Tarifs : adulte 10 euros\, enfant (5 à 10 ans) 5 
 euros\n • 18h30 Bandido\n • 20h Concert de Franck Marcou - Scène du P
 ont de l’Union - Offert par la Ville\n • 22h Feu d’artifice - Plage 
 de l’Hôtel de Ville\n \n Dimanche 21/09 :\n • 11h Roussetaï – Parc
 ours Abrivado - Offert par la Ville\n • 12h Abrivado\n • 13h Concert R
 icoune – Quai Paul Cunq \n • 16h Course Camarguaise Trophée des AS - 
 Finale du Trophée Albert Dubout - Arènes El Cordobés - Tarifs : Place n
 umérotée 18 euros\, adulte 13 euros\, enfant (5 à 10 ans) 7 euros\n •
  18h30 Bandido\n • 20h Mascleta – Arènes el Cordobés - Offert par la
  Ville
ATTACH;FMTTYPE=image/jpeg:https://palavaslesflots.com/app/uploads/2025/08/
 33916820-scaled.jpeg
CATEGORIES:Abrivado - Bandido,Tauromachie,Tienta - Capea
LOCATION:Arènes el cordobès\, Avenue de l'Abbé Brocardi 34250 PALAVAS-LE
 S-FLOTS\, France
X-APPLE-STRUCTURED-LOCATION;VALUE=URI;X-ADDRESS=Avenue de l'Abbé Brocardi 
 34250 PALAVAS-LES-FLOTS\, France;X-APPLE-RADIUS=100;X-TITLE=Arènes el cor
 dobès:geo:0,0
END:VEVENT
END:VCALENDAR