BEGIN:VCALENDAR
VERSION:2.0
PRODID:-//wp-events-plugin.com//7.1.7//EN
TZID:Europe/Paris
X-WR-TIMEZONE:Europe/Paris
BEGIN:VEVENT
UID:0-3720@palavaslesflots.com
DTSTART:20260114T173000Z
DTEND:20260114T183000Z
DTSTAMP:20260114T152210Z
URL:https://palavaslesflots.com/evenements/la-princesse-et-le-rossignol/
SUMMARY:La princesse et le Rossignol
DESCRIPTION:Résumé : \nTrois histoires douces et pleines de poésie\, où
  de jeunes héros prennent leur envol. Un tout petit oiseau qui défie un 
 plus grand que lui\, un jeune moine qui suit un moineau au-delà du temple
 \, une fillette curieuse qui rêve de liberté… Chacun\, à sa façon\, 
 écoute son cœur et part à la découverte du monde. Un programme tendre 
 et inspirant pour les tout-petits\, qui célèbre la curiosité\, la liber
 té et l’enfance.
ATTACH;FMTTYPE=image/jpeg:https://palavaslesflots.com/app/uploads/1/2025/1
 2/36810960-scaled.jpg
CATEGORIES:Séance / Projection cinéma
LOCATION:Le nautilus\, 16 Avenue Maréchal Joffre 34250 PALAVAS-LES-FLOTS\,
  France
X-APPLE-STRUCTURED-LOCATION;VALUE=URI;X-ADDRESS=16 Avenue Maréchal Joffre 
 34250 PALAVAS-LES-FLOTS\, France;X-APPLE-RADIUS=100;X-TITLE=Le nautilus:ge
 o:0,0
END:VEVENT
END:VCALENDAR