BEGIN:VCALENDAR
VERSION:2.0
PRODID:-//wp-events-plugin.com//7.1.7//EN
TZID:Europe/Paris
X-WR-TIMEZONE:Europe/Paris
BEGIN:VEVENT
UID:0-3598@palavaslesflots.com
DTSTART:20251012T193000Z
DTEND:20251012T213000Z
DTSTAMP:20251012T152217Z
URL:https://palavaslesflots.com/evenements/life-of-chuck/
SUMMARY:Life of Chuck
DESCRIPTION:Résumé : \nLe film retrace la vie extraordinaire d'un homme o
 rdinaire\, Charles Krantz\, dit Chuck\, à rebours sur trois chapitres.
ATTACH;FMTTYPE=image/jpeg:https://palavaslesflots.com/app/uploads/2025/09/
 34600423-scaled.jpg
CATEGORIES:Séance / Projection cinéma
LOCATION:Le nautilus\, 16 Avenue Maréchal Joffre 34250 PALAVAS-LES-FLOTS\,
  France
X-APPLE-STRUCTURED-LOCATION;VALUE=URI;X-ADDRESS=16 Avenue Maréchal Joffre 
 34250 PALAVAS-LES-FLOTS\, France;X-APPLE-RADIUS=100;X-TITLE=Le nautilus:ge
 o:0,0
END:VEVENT
END:VCALENDAR