BEGIN:VCALENDAR
VERSION:2.0
PRODID:-//wp-events-plugin.com//7.1.7//EN
TZID:Europe/Paris
X-WR-TIMEZONE:Europe/Paris
BEGIN:VEVENT
UID:1-267@palavaslesflots.com
DTSTART:19700101T000000Z
DTEND:19700101T000000Z
DTSTAMP:20260425T175753Z
URL:
SUMMARY:MATCH DE FOOTBALL AUSTRALIEN
DESCRIPTION:15h- Match de football Australien – Les Gabians de Palavas re
 çoivent les Bayonne Toreadors – Stade Louis Baume - Infos : www.gabians
 depalavas.com ou www.facebook.com/gabiansdepalavas
END:VEVENT
END:VCALENDAR