BEGIN:VCALENDAR
VERSION:2.0
PRODID:-//wp-events-plugin.com//7.1.7//EN
TZID:Europe/Paris
X-WR-TIMEZONE:Europe/Paris
BEGIN:VEVENT
UID:0-3767@palavaslesflots.com
DTSTART:20260421T153000Z
DTEND:20260421T153059Z
DTSTAMP:20260419T124022Z
URL:https://palavaslesflots.com/evenements/nautilus-des-enfants-la-grande-
 lili-flamingo/
SUMMARY:Nautilus des enfants « La Grande Lili Flamingo »
DESCRIPTION:La grande Lili Flamingo fait son show avec tous ses amis ! Lili
  est un flamant rose\, un oiseau sur échasses\, quelle classe ! Eh bien n
 on\, car même si être grand a plein d’avantages\, notre grande Lili su
 bit les moqueries incessantes de Billy le poisson. Lili finit par avoir ho
 nte de sa taille.\nC’est l’heure du spectacle. Le public est installé
 . Albus Grimal et son assistante Mistic sont prêts à accueillir la grand
 e\, la très grande Lili Flamingo. Mais elle se cache et n’ose pas se mo
 ntrer car on s’est encore moqué d’elle ! Alors il va falloir improvis
 er le spectacle. C’est ainsi que Kerlit la grenouille vient nous raconte
 r l’histoire de Lili\, que le gros bourdon pataud fait son numéro de vo
 ltige\, que la cane blanche aveugle danse un ballet\, que le vilain petit 
 canard fait du hip hop… Quand on ose la vie est plus rose.\nde et avec J
 asmine Dziadon\, Compagnie Ong Dam\nOffert par la Ville\nA partir de 2 ans
 \nNautilus\nRéservation conseillée au 04 67 50 42 23
ATTACH;FMTTYPE=image/jpeg:https://palavaslesflots.com/app/uploads/1/2026/0
 1/37563505.jpg
CATEGORIES:Spectacle
LOCATION:Le nautilus\, 16 Avenue Maréchal Joffre 34250 PALAVAS-LES-FLOTS\,
  France
X-APPLE-STRUCTURED-LOCATION;VALUE=URI;X-ADDRESS=16 Avenue Maréchal Joffre 
 34250 PALAVAS-LES-FLOTS\, France;X-APPLE-RADIUS=100;X-TITLE=Le nautilus:ge
 o:0,0
END:VEVENT
END:VCALENDAR