BEGIN:VCALENDAR
VERSION:2.0
PRODID:-//wp-events-plugin.com//7.1.7//EN
TZID:Europe/Paris
X-WR-TIMEZONE:Europe/Paris
BEGIN:VEVENT
UID:0-3532@palavaslesflots.com
DTSTART:20250921T000000Z
DTEND:20250921T235959Z
DTSTAMP:20250921T152141Z
URL:https://palavaslesflots.com/evenements/salon-du-camping-car/
SUMMARY:Salon du camping-car
DESCRIPTION:
ATTACH;FMTTYPE=image/jpeg:https://palavaslesflots.com/app/uploads/2025/08/
 33819565.jpg
CATEGORIES:Foire ou salon
LOCATION:Salle bleue\, 34250 PALAVAS-LES-FLOTS\, France
X-APPLE-STRUCTURED-LOCATION;VALUE=URI;X-ADDRESS=34250 PALAVAS-LES-FLOTS\, F
 rance;X-APPLE-RADIUS=100;X-TITLE=Salle bleue:geo:0,0
END:VEVENT
END:VCALENDAR