BEGIN:VCALENDAR
VERSION:2.0
PRODID:-//wp-events-plugin.com//7.1.7//EN
TZID:Europe/Paris
X-WR-TIMEZONE:Europe/Paris
BEGIN:VEVENT
UID:0-3617@palavaslesflots.com
DTSTART:20251015T190000Z
DTEND:20251015T201500Z
DTSTAMP:20251015T152223Z
URL:https://palavaslesflots.com/evenements/seance-de-body-karate-solidaire
 /
SUMMARY:Séance de Body Karaté solidaire
DESCRIPTION:Venez bouger pour une bonne cause ! Cette séance de Body Karat
 é est ouverte à toutes et tous\, quel que soit votre niveau. L’occasio
 n parfaite de découvrir une activité dynamique mêlant arts martiaux et 
 fitness\, tout en soutenant la lutte contre le cancer. \nLa participation 
 est libre\, avec un minimum de 5€ reversé à la Ligue contre le cancer.
 \n Tenue confortable recommandée  \n Ambiance conviviale et engagée
ATTACH;FMTTYPE=image/jpeg:https://palavaslesflots.com/app/uploads/2025/10/
 34954321.jpg
CATEGORIES:Initiation / découverte dans le cadre d'un événement
LOCATION:Salle du dojo\, 1 avenue de l'abbé brocardi 34250 Palavas-les-Flo
 ts\, France
X-APPLE-STRUCTURED-LOCATION;VALUE=URI;X-ADDRESS=1 avenue de l'abbé brocard
 i 34250 Palavas-les-Flots\, France;X-APPLE-RADIUS=100;X-TITLE=Salle du doj
 o:geo:0,0
END:VEVENT
END:VCALENDAR