BEGIN:VCALENDAR
VERSION:2.0
PRODID:-//wp-events-plugin.com//7.1.7//EN
TZID:Europe/Paris
X-WR-TIMEZONE:Europe/Paris
BEGIN:VEVENT
UID:0-3618@palavaslesflots.com
DTSTART:20251017T193000Z
DTEND:20251017T193000Z
DTSTAMP:20251017T152707Z
URL:https://palavaslesflots.com/evenements/soiree-solidaire-et-festive-ent
 re-filles/
SUMMARY:Soirée solidaire et festive entre filles
DESCRIPTION:au restaurant La Passerelle\nSur réservation\nInfos : 06 27 48
  03 51
ATTACH;FMTTYPE=image/jpeg:https://palavaslesflots.com/app/uploads/2025/10/
 34954330.jpg
CATEGORIES:Dîner / Repas spectacle,Repas organisé par une association
LOCATION:La passerelle\, Quai Paul Cunq 34250 Palavas-les-Flots\, France
X-APPLE-STRUCTURED-LOCATION;VALUE=URI;X-ADDRESS=Quai Paul Cunq 34250 Palava
 s-les-Flots\, France;X-APPLE-RADIUS=100;X-TITLE=La passerelle:geo:0,0
END:VEVENT
END:VCALENDAR