BEGIN:VCALENDAR
VERSION:2.0
PRODID:-//wp-events-plugin.com//7.1.7//EN
TZID:Europe/Paris
X-WR-TIMEZONE:Europe/Paris
BEGIN:VEVENT
UID:0-3895@palavaslesflots.com
DTSTART:20261024T200000Z
DTEND:20261024T200059Z
DTSTAMP:20260419T142302Z
URL:https://palavaslesflots.com/evenements/spectacle-cabaret-deux-bresilie
 ns-a-paris/
SUMMARY:Spectacle Cabaret « Deux brésiliens à Paris »
DESCRIPTION:Salle Bleue\nTarif : 39€\nInfos : https://www.ticketmaster.fr
 /fr/artiste/2-bresiliens-a-paris/idartiste/62760\nLe spectacle 2 Brésilie
 ns à Paris pose ses valises à la Salle Bleue de Palavas-les-Flots le sam
 edi 24 octobre 2026 à 20h. Cette production 100% Brésil\, mise e n scèn
 e par Luciana Cavalcante et Philippe Lemaire\, embarque le public dans un 
 voyage carnavalesque entre samba\, capoeira et\nfrevo\, avec plumes\, pail
 lettes e t costumes flamboyants. Une soirée tout public d'une durée de 2
 h avec entracte. Réservez dès maintenant vos billets pour ne pas manquer
  ce rendez-vous coloré et festif.\nProduit par ABC Brasil\, le spectacle 
 2 Brésiliens à Paris débarque à la Salle Bleue de Palavas-les-Flots po
 ur une soirée haute en couleurs. Sur scène\, deux amoureux retracent leu
 r histoire au cœur du grand Brésil\, à\ntravers des chorégraphies carn
 avalesques extraites d'œuvres authentiques. De l'Amazonie à Rio de Janei
 ro\, en passant par São Paulo\, Bahia et Fortaleza\, chaque tableau dévo
 ile les plus beaux sites brésiliens dans un décor magistral. Ce spectacl
 e inédit\, tout public\, dure 2h avec entracte.\nPlumes flamboyantes\, co
 stumes luxuriants et rythmes latinos enivrants : la Salle Bleue\, qui atti
 re un public venu de tout le département de l'Hérault\, offre le cadre i
 déal pour accueillir cette revue artistique de renommée internationale.
ATTACH;FMTTYPE=image/jpeg:https://palavaslesflots.com/app/uploads/1/2026/0
 4/40378451.jpeg
CATEGORIES:Spectacle
LOCATION:Salle bleue\, 34250 PALAVAS-LES-FLOTS\, France
X-APPLE-STRUCTURED-LOCATION;VALUE=URI;X-ADDRESS=34250 PALAVAS-LES-FLOTS\, F
 rance;X-APPLE-RADIUS=100;X-TITLE=Salle bleue:geo:0,0
END:VEVENT
END:VCALENDAR