BEGIN:VCALENDAR
VERSION:2.0
PRODID:-//wp-events-plugin.com//7.1.7//EN
TZID:Europe/Paris
X-WR-TIMEZONE:Europe/Paris
BEGIN:VEVENT
UID:0-3768@palavaslesflots.com
DTSTART:20261027T153000Z
DTEND:20261027T153059Z
DTSTAMP:20260419T124022Z
URL:https://palavaslesflots.com/evenements/spectacle-le-petit-chat-magicie
 n/
SUMMARY:Spectacle « Le petit chat magicien »
DESCRIPTION:Les aventures drôles\, magiques et pleine d’émotions d’un
  petit chat de rue.\nLe petit chat de gouttière vit seul dans la rue sans
  maman ni papa. Il est libre de jouer\, de se bagarrer\, de ne pas se lave
 r\, de manger n’importe quoi\, d’aller où il veut. Mais un jour il se
  sent seul\, il a faim\, il est fatigué. Il donnerait n’importe quoi po
 ur une maison ou simplement un petit nom. Comme la petite fille aux allume
 ttes du conte d’Hans Christian Andersen\, le petit chat magicien est con
 fronté aux difficultés de la vie. Mais lui aussi saura rêver et trouver
  de la magie autour de lui. Et s’ils se rencontraient…\nMarionnettes\,
  tours de magie\, chansons et autres surprises jalonnent le parcours de ce
  chat aussi mignon que polisson.\nUne traversée d’émotions à vivre av
 ec un petit chat de gouttière un peu magicien qui cherche une maison ou s
 implement un joli nom. Une histoire pleine de tendresse et de fantaisie qu
 i aborde en filigrane des thèmes d’actualité.\nLe spectacle explore la
  vie et tous ses moments \, drôles ou tristes\,  légers ou graves\,  sim
 ples ou compliqués : la faim\, la bagarre\, la solitude\, la peur\, l’a
 mitié\, la propreté… Les enfants pourront parfois se reconnaître mais
  avec assez de distance pour réfléchir ou même en rire !\nde et avec Ja
 smine Dziadon\, Compagnie Ong Dam\,\nDurée : 45 minutes\nOffert par la Vi
 lle\nA partir de 2 ans\nNautilus\nRéservation conseillée au 04 67 50 42 
 23
ATTACH;FMTTYPE=image/jpeg:https://palavaslesflots.com/app/uploads/1/2026/0
 1/37563575.jpg
CATEGORIES:Spectacle
LOCATION:Le nautilus\, 16 Avenue Maréchal Joffre 34250 PALAVAS-LES-FLOTS\,
  France
X-APPLE-STRUCTURED-LOCATION;VALUE=URI;X-ADDRESS=16 Avenue Maréchal Joffre 
 34250 PALAVAS-LES-FLOTS\, France;X-APPLE-RADIUS=100;X-TITLE=Le nautilus:ge
 o:0,0
END:VEVENT
END:VCALENDAR