BEGIN:VCALENDAR
VERSION:2.0
PRODID:-//wp-events-plugin.com//7.1.7//EN
TZID:Europe/Paris
X-WR-TIMEZONE:Europe/Paris
BEGIN:VEVENT
UID:0-3866@palavaslesflots.com
DTSTART:20260422T173000Z
DTEND:20260422T190059Z
DTSTAMP:20260419T142253Z
URL:https://palavaslesflots.com/evenements/super-charlie/
SUMMARY:Super Charlie
DESCRIPTION:Will âgé de 10 ans\, a toujours rêvé de devenir un super-h
 éros et de lutter contre le crime aux côtés de son père\, policier. Ma
 is\, son rêve est brutalement remis en cause à la naissance de son petit
  frère Charlie. Non seulement ce nourrisson attire toute l’attention de
  la famille et au-delà\, mais Will découvre que Charlie a des super-pouv
 oirs … Lorsqu’un super-vilain et un scientifique dérangé mettent en 
 œuvre un plan diabolique\, Charlie\, coaché par son grand frère\, va al
 ors endosser le costume de super-héros pour sauver le monde !... Y parvie
 ndront-ils ?
ATTACH;FMTTYPE=image/jpeg:https://palavaslesflots.com/app/uploads/1/2026/0
 3/39204051-scaled.jpg
CATEGORIES:Séance / Projection cinéma
LOCATION:Le nautilus\, 16 Avenue Maréchal Joffre 34250 PALAVAS-LES-FLOTS\,
  France
X-APPLE-STRUCTURED-LOCATION;VALUE=URI;X-ADDRESS=16 Avenue Maréchal Joffre 
 34250 PALAVAS-LES-FLOTS\, France;X-APPLE-RADIUS=100;X-TITLE=Le nautilus:ge
 o:0,0
END:VEVENT
END:VCALENDAR