BEGIN:VCALENDAR
VERSION:2.0
PRODID:-//wp-events-plugin.com//7.1.7//EN
TZID:Europe/Paris
X-WR-TIMEZONE:Europe/Paris
BEGIN:VEVENT
UID:0-3483@palavaslesflots.com
DTSTART:20251011T203000Z
DTEND:20251011T203000Z
DTSTAMP:20251011T152045Z
URL:https://palavaslesflots.com/evenements/theatre-la-chanson-de-lelephant
 -2/
SUMMARY:Théâtre « La chanson de l’éléphant »
DESCRIPTION:Un thriller psychologique haletant\, entre tension dramatique e
 t vertige émotionnel.\nRésumé :\nÀ la veille de Noël\, le docteur Law
 rence\, thérapeute dans un hôpital psychiatrique\, disparaît sans laiss
 er de trace. Michael\, l’un de ses patients\, est la dernière personne 
 à l’avoir vu. Malgré les avertissements sibyllins de l’infirmière d
 e garde\, le docteur Greenberg\, directeur de l’établissement\, s’ach
 arne à obtenir un témoignage cohérent. Mais Michael parle d’éléphan
 ts… et entraîne le médecin dans une souricière mentale\, un jeu de pi
 ste pervers où la vérité se dérobe.
ATTACH;FMTTYPE=image/jpeg:https://palavaslesflots.com/app/uploads/2025/08/
 33481707.jpeg
CATEGORIES:Spectacle,Théâtre
LOCATION:Chapelle notre dame de la route\, Place Notre-Dame de la Route 342
 50 PALAVAS-LES-FLOTS\, France
X-APPLE-STRUCTURED-LOCATION;VALUE=URI;X-ADDRESS=Place Notre-Dame de la Rout
 e 34250 PALAVAS-LES-FLOTS\, France;X-APPLE-RADIUS=100;X-TITLE=Chapelle not
 re dame de la route:geo:0,0
END:VEVENT
END:VCALENDAR