BEGIN:VCALENDAR
VERSION:2.0
PRODID:-//wp-events-plugin.com//7.1.7//EN
TZID:Europe/Paris
X-WR-TIMEZONE:Europe/Paris
BEGIN:VEVENT
UID:0-3486@palavaslesflots.com
DTSTART:20250930T203000Z
DTEND:20250930T203000Z
DTSTAMP:20250930T152544Z
URL:https://palavaslesflots.com/evenements/theatre-la-derniere-lettre-2/
SUMMARY:Théâtre "La dernière lettre"
DESCRIPTION:Dans cette pièce écrite et mise en scène par Violaine Arsac\
 , la Compagnie Tous en scène explore les méandres de la justice\, du deu
 il et de la rédemption. \nUne intrigue intime et judiciaire\, portée par
  des dialogues puissants et une mise en scène sobre et émouvante. Un th
 éâtre engagé qui interroge notre capacité à écouter\, comprendre et 
 pardonner.\nRésumé :\nClémence est bénévole dans une association qui 
 met en lien familles des victimes et condamnés. Elle apporte à Anna une 
 lettre de l'homme emprisonné pour avoir tué son mari... Qu'a-t-il à lui
  dire ? Est-il vraiment coupable ? Une intrigue intime et judiciaire\, l'h
 istoire de deux femmes face aux enjeux de leur vie.
ATTACH;FMTTYPE=image/jpeg:https://palavaslesflots.com/app/uploads/2025/08/
 33481707.jpeg
CATEGORIES:Spectacle,Théâtre
LOCATION:Chapelle notre dame de la route\, Place Notre-Dame de la Route 342
 50 PALAVAS-LES-FLOTS\, France
X-APPLE-STRUCTURED-LOCATION;VALUE=URI;X-ADDRESS=Place Notre-Dame de la Rout
 e 34250 PALAVAS-LES-FLOTS\, France;X-APPLE-RADIUS=100;X-TITLE=Chapelle not
 re dame de la route:geo:0,0
END:VEVENT
END:VCALENDAR