BEGIN:VCALENDAR
VERSION:2.0
PRODID:-//wp-events-plugin.com//7.1.7//EN
TZID:Europe/Paris
X-WR-TIMEZONE:Europe/Paris
BEGIN:VEVENT
UID:0-3500@palavaslesflots.com
DTSTART:20251116T170000Z
DTEND:20251116T170000Z
DTSTAMP:20251116T152207Z
URL:https://palavaslesflots.com/evenements/theatre-nos-femmes-2/
SUMMARY:Théâtre "Nos femmes"
DESCRIPTION:Résumé : \nTrois hommes se retrouvent régulièrement\, sans 
 leur femme pour jouer aux cartes. Aussi différents soient-ils\, leur amit
 ié de trente-cinq ans semble inébranlable\, jusqu'à ce qu'un évènemen
 t bouleversant vienne mettre à l'épreuve cette amitié en apparence sans
  tâche et révéler des rancœurs enfouies.....
ATTACH;FMTTYPE=image/jpeg:https://palavaslesflots.com/app/uploads/2025/08/
 33481707.jpeg
CATEGORIES:Spectacle,Théâtre
LOCATION:Chapelle notre dame de la route\, Place Notre-Dame de la Route 342
 50 PALAVAS-LES-FLOTS\, France
X-APPLE-STRUCTURED-LOCATION;VALUE=URI;X-ADDRESS=Place Notre-Dame de la Rout
 e 34250 PALAVAS-LES-FLOTS\, France;X-APPLE-RADIUS=100;X-TITLE=Chapelle not
 re dame de la route:geo:0,0
END:VEVENT
END:VCALENDAR