BEGIN:VCALENDAR
VERSION:2.0
PRODID:-//wp-events-plugin.com//7.1.7//EN
TZID:Europe/Paris
X-WR-TIMEZONE:Europe/Paris
BEGIN:VEVENT
UID:1-3193@palavaslesflots.com
DTSTART:20250423T090000Z
DTEND:20250423T000000Z
DTSTAMP:20260425T225216Z
URL:
SUMMARY:URGENCE MER PROPRE
DESCRIPTION:9hOpération urgence mer propre par les équipes de l'Office de
  Tourisme et du Casino de PalavasPlage des Coquilles\, rive droiteInfos : 
 04 67 07 73 34
END:VEVENT
END:VCALENDAR