BEGIN:VCALENDAR
VERSION:2.0
PRODID:-//wp-events-plugin.com//7.1.7//EN
TZID:Europe/Paris
X-WR-TIMEZONE:Europe/Paris
BEGIN:VEVENT
UID:0-3550@palavaslesflots.com
DTSTART:20250921T000000Z
DTEND:20250921T235959Z
DTSTAMP:20250921T152143Z
URL:https://palavaslesflots.com/evenements/visites-commentees-par-didier-d
 ubout/
SUMMARY:Visites commentées par Didier Dubout
DESCRIPTION:Visites commentées par Didier Dubout : Une immersion intime da
 ns l’univers d’Albert Dubout\nSamedi 20 et dimanche 21 septembre\nLe m
 usée Albert Dubout à Palavas-les-Flots vous propose une expérience uniq
 ue : des visites commentées par **Didier Dubout**\, petit-fils du célèb
 re dessinateur Albert Dubout. Ces rencontres privilégiées offrent bien p
 lus qu’un simple parcours muséal : elles sont une plongée vivante dans
  l’histoire\, l’humour et la technique d’un artiste hors norme.\n---
 \nUn témoignage familial et artistique\nDidier Dubout partage avec passio
 n :\n- Des anecdotes inédites sur la vie quotidienne et les inspirations 
 de son grand-père\n- Les techniques de dessin utilisées par Albert Dubou
 t\, notamment son travail sur les perspectives déformées\, les foules ca
 ricaturales et les scènes burlesques\n- Une lecture guidée des œuvres\,
  révélant des détails souvent invisibles à l’œil non averti\n---\n
 À découvrir pendant la visite\n- Exposition temporaire : "Dubout illustr
 e Pagnol"\n  Une trentaine d’œuvres illustrant la collaboration entre A
 lbert Dubout et Marcel Pagnol\, avec des affiches de films\, couvertures d
 e livres et dessins originaux\n- Nouvelles acquisitions du musée\n  Dont 
 25 grandes planches rares\, récemment intégrées à la collection perman
 ente\, témoignant de l’évolution du style de Dubout\n---\nHoraires des
  visites\nTrois créneaux sont proposés  : 10h30\, 14h15 et 15h45\nAttent
 ion : le musée fermera ses portes du 22 septembre au 28 octobre pour trav
 aux. \nLa dernière visite aura lieu le 21 septembre\, une belle occasion 
 de clore la saison en beauté.\n---\nInformations pratiques\n- Entrée gra
 tuite\n- Réservation conseillée au 06 07 50 75 69\n- Lieu : Musée Alber
 t Dubout\, Parc du Levant\, Palavas-les-Flots\n---\nCes visites sont une v
 éritable célébration de l’héritage artistique et affectif d’Albert
  Dubout\, raconté par celui qui connaît son œuvre mieux que quiconque. 
 Une parenthèse culturelle à ne pas manquer avant la fermeture du musée.
ATTACH;FMTTYPE=image/jpeg:https://palavaslesflots.com/app/uploads/2025/09/
 34193156-scaled.jpg
CATEGORIES:Visite guidée et/ou commentée
LOCATION:Musée albert dubout\, 34250 PALAVAS-LES-FLOTS\, France
X-APPLE-STRUCTURED-LOCATION;VALUE=URI;X-ADDRESS=34250 PALAVAS-LES-FLOTS\, F
 rance;X-APPLE-RADIUS=100;X-TITLE=Musée albert dubout:geo:0,0
END:VEVENT
END:VCALENDAR